Workbook
Name ДаНет: Справочник!$M$2:$M$3
Name Дата_ДУЛ: Справочник!$I$3
Name ДР: Справочник!$I$2
Name ДУЛ: Справочник!$C$2:$C$17
Name Заявления: Справочник!$N$2:$N$4
Name ОКСМ: Справочник!$G$2:$G$255
Name Соответствие: Справочник!$K$2:$K$3
Name Соответствие2: Справочник!$K$2:$K$4
Name Субъект_РФ: Справочник!$A$2:$A$90

Sheet Заявление УПД
I1: Обязательность заполнения | J1: Логический контроль1 | K1: Логический контроль2 | L1: Логический контроль3 | M1: Длина
B3: Дата составления заявления | G3: =+IF(F3="",Справочник!$E$2,"") -> * | I3: =+IF(AND(F3="",$I$93=TRUE),Справочник!$E$3,"")
F4: =+IF(OR(I3<>"",J3<>"",M3<>""),I3&J3&M3,"")
B5: Исходящий номер | G5: =+IF(F5="",Справочник!$E$2,"") -> * | I5: =+IF(AND(F5="",$I$93=TRUE),Справочник!$E$3,"")
F6: =+IF(OR(I5<>"",J5<>"",M5<>""),I5&J5&M5,"")
B7: Полное фирменное наименование заявителя | G7: =+IF(F7="",Справочник!$E$2,"") -> * | I7: =+IF(AND(F7="",$I$93=TRUE),Справочник!$E$3,"")
F8: =+IF(OR(I7<>"",J7<>"",M7<>""),I7&J7&M7,"")
B9: Сокращенное фирменное наименование заявителя
B11: Основной государственный регистрационный номер заявителя | G11: =+IF(F11="",Справочник!$E$2,"") -> * | I11: =+IF(AND(F11="",$I$93=TRUE),Справочник!$E$3,"") | J11: =IFERROR( IF( AND(F11<>"",I93=TRUE), IF(RIGHT(LEFT(F11,LEN(F11)-1)-INT((LEFT(F11,LEN(F11)-1))/(LEN(F11)-2))*(LEN(F11)-2),1)=TEXT(_xlfn.NUMBERVALUE(RIGHT(F11,1)),"@"),"",Справочник!$E$6), ""), Справочник!$E$6) | M11: =+IF(AND(LEN(F11)<>13,F11<>"",I93=TRUE),Справочник!$E$5,"")
F12: =+IF(OR(I11<>"",J11<>"",M11<>""),I11&J11&M11,"")
B13: Идентификационный номер налогоплательщика заявителя | G13: =+IF(F13="",Справочник!$E$2,"") -> * | I13: =+IF(AND(F13="",$I$93=TRUE),Справочник!$E$3,"") | J13: =+IFERROR( IF(AND(F13<>"",I93=TRUE), IF(SUMPRODUCT((MID(F13,{1;2;3;4;5;6;7;8;9;10},1)*1)*{2;4;10;3;5;9;4;6;8;0})-INT((SUMPRODUCT((MID(F13,{1;2;3;4;5;6;7;8;9;10},1)*1)*{2;4;10;3;5;9;4;6;8;0})/11))*11 <> _xlfn.NUMBERVALUE(RIGHT(F13,1)), Справочник!$E$9,""),""), Справочник!$E$9) | M13: =+IF(AND(LEN(F13)<>10,F13<>"",I93=TRUE),Справочник!$E$7,"")
F14: =+IF(OR(I13<>"",J13<>"",M13<>""),I13&J13&M13,"")
B15: Просьба: | F15: =+IF(B1=" ","",INDEX(Справочник!N2:O4,MATCH('Заявление УПД'!B1,Заявления,0),2))
B18: Заявитель подтверждает:
B20: полноту и достоверность сведений, указанных в заявлении | G20: =+IF(F20="",Справочник!$E$2,"") -> * | I20: =+IF(AND(F20="",$I$93=TRUE),Справочник!$E$3,"")
F21: =+IF(OR(I20<>"",J20<>"",M20<>""),I20&J20&M20,"")
B22: о том, что проинформирован о возможности применения | G22: =+IF(F22="",Справочник!$E$2,"") -> * | I22: =+IF(AND(F22="",$I$93=TRUE),Справочник!$E$3,"")
B23: Банком России к юридическому лицу мер, предусмотренных законодательством Российской Федерации, регулирующим деятельность цифрового депозитария/организации, осуществляющей обмен цифровых валют, в случае выявления Банком России неполной и (или) недостоверной информации, указанной в заявлении | F23: =+IF(OR(I22<>"",J22<>"",M22<>""),I22&J22&M22,"")
B25: соответствие юридического лица на дату предоставления | G25: =+IF(F25="",Справочник!$E$2,"") -> * | I25: =+IF(AND(F25="",$I$93=TRUE),Справочник!$E$3,"")
B26: в Банк России указанного заявления следующим требованиям: | F26: =+IF(OR(I25<>"",J25<>"",M25<>""),I25&J25&M25,"")
B28: не имеет фактов, предусмотренных пунктами 1–5 части 8 статьи 52 | G28: =+IF(F28="",Справочник!$E$2,"") -> * | I28: =+IF(AND(F28="",$I$93=TRUE),Справочник!$E$3,"")
B29: Федерального закона от 04.08.2026 № 282-ФЗ «О цифровых валютах и цифровых правах» | F29: =+IF(OR(I28<>"",J28<>"",M28<>""),I28&J28&M28,"")
B31: не имеет факта приостановления или прекращения статуса субъекта | G31: =+IF(F31="",Справочник!$E$2,"") -> * | I31: =+IF(AND(F31="",$I$93=TRUE),Справочник!$E$3,"")
B32: экспериментального правового режима, предусмотренного статьей 12 Федерального закона от 31.07.2020 № 258-ФЗ «Об экспериментальных правовых режимах в сфере цифровых и технологических инноваций в Российской Федерации» | F32: =+IF(OR(I31<>"",J31<>"",M31<>""),I31&J31&M31,"")
B34: не имеет факта признания его арбитражным судом | G34: =+IF(F34="",Справочник!$E$2,"") -> * | I34: =+IF(AND(F34="",$I$93=TRUE),Справочник!$E$3,"")
B35: несостоятельным (банкротом) или вступившего в законную силу решения арбитражного суда о его ликвидации | F35: =+IF(OR(I34<>"",J34<>"",M34<>""),I34&J34&M34,"")
B37: не имеет факта неисполненного предписания Банка России, | G37: =+IF(F37="",Справочник!$E$2,"") -> * | I37: =+IF(AND(F37="",$I$93=TRUE),Справочник!$E$3,"")
B38: направленного в связи с выявлением факта, свидетельствующего о несоответствии должностного лица и (или) члена органа управления финансовой организации квалификационным требованиям, требованиям к деловой репутации и (или) иным требованиям, установленным федеральными законами, регулирующими деятельность финансовой организации | F38: =+IF(OR(I37<>"",J37<>"",M37<>""),I37&J37&M37,"")
B40: не имеет факта неисполненного предписания Банка России, | G40: =+IF(F40="",Справочник!$E$2,"") -> * | I40: =+IF(AND(F40="",$I$93=TRUE),Справочник!$E$3,"")
B41: направленного в связи с выявлением факта, свидетельствующего о несоответствии лица, имеющего право прямо или косвенно распоряжаться 10 и более процентами акций (долей), составляющих уставный капитал юридического лица в качестве финансовой организации, а также лица, осуществляющего функции (включая временное исполнение должностных обязанностей) единоличного исполнительного органа юридического лица, имеющего право прямо или косвенно распоряжаться 10 и более процентами акций (долей), составляющих уставный капитал юридического лица в качестве финансовой организации, требованиям к деловой репутации, и (или) требованиям к финансовому положению, и (или) иным требованиям, установленным федеральными законами, регулирующими деятельность юридического лица в качестве финансовой организации | F41: =+IF(OR(I40<>"",J40<>"",M40<>""),I40&J40&M40,"")
B43: не имеет факта неисполненного предписания Банка России, | G43: =+IF(F43="",Справочник!$E$2,"") -> * | I43: =+IF(AND(F43="",$I$93=TRUE),Справочник!$E$3,"")
B44: направленного в связи с выявлением факта, свидетельствующего о несоответствии акционера (участника) юридического лица в качестве финансовой организации, владеющего 10 и более процентами акций (долей) юридического лица в качестве финансовой организации, и (или) акционера (участника) юридического лица в качестве финансовой организации, владеющего 10 и менее процентами акций (долей) юридического лица в качестве финансовой организации и входящего в состав группы лиц, владеющей 10 и более процентами акций (долей) юридического лица в качестве финансовой организации, и (или) лица, осуществляющего контроль в отношении таких акционеров (участников) юридического лица в качестве финансовой организации, требованиям к деловой репутации, и (или) требованиям к финансовому положению, и (или) иным требованиям, установленным федеральными законами, регулирующими деятельность юридического лица в качестве финансовой организации | F44: =+IF(OR(I43<>"",J43<>"",M43<>""),I43&J43&M43,"")
B46: не имеет факта функционирования временной администрации, | G46: =+IF(F46="",Справочник!$E$2,"") -> * | I46: =+IF(AND(F46="",$I$93=TRUE),Справочник!$E$3,"")
B47: назначенной Банком России в соответствии с параграфами 4 и 41 главы IX Федерального закона от 26.10.2002 № 127-ФЗ «О несостоятельности (банкротстве)» | F47: =+IF(OR(I46<>"",J46<>"",M46<>""),I46&J46&M46,"")
B49: не имеет аннулированной или отозванной лицензии | G49: =+IF(F49="",Справочник!$E$2,"") -> * | I49: =+IF(AND(F49="",$I$93=TRUE),Справочник!$E$3,"")
B50: на осуществление банковских операций в соответствии с законодательством о банковской деятельности, выданной Банком России | F50: =+IF(OR(I49<>"",J49<>"",M49<>""),I49&J49&M49,"")
B52: не отнесено Банком России ниже чем к классификационной | G52: =+IF(F52="",Справочник!$E$2,"") -> * | I52: =+IF(AND(F52="",$I$93=TRUE),Справочник!$E$3,"")
B53: группе 2 по результатам оценки экономического положения юридического лица, намеревающегося получить право на осуществление деятельности организации, осуществляющей обмен цифровых валют, проведенной Банком России до даты предоставления в Банк России настоящего заявления в соответствии с главой 6 Указания Банка России от 03.04.2017 № 4336-У «Об оценке экономического положения банков» | F53: =+IF(OR(I52<>"",J52<>"",M52<>""),I52&J52&M52,"")
B55: не имеет приостановленного Банком России действия лицензии, | G55: =+IF(F55="",Справочник!$E$2,"") -> * | I55: =+IF(AND(F55="",$I$93=TRUE),Справочник!$E$3,"")
B56: выданной юридическому лицу в целях осуществления им деятельности в качестве некредитной финансовой организации, в течение 12 месяцев, предшествующих дате направления в Банк России заявления | F56: =+IF(OR(I55<>"",J55<>"",M55<>""),I55&J55&M55,"")
...

Sheet Справочник
A1: TERR_NAME | B1: TERR_ID | C1: Наименование | D1: Код | E1: Сообщения | G1: Страна | H1: Код ISO | AA1: 1 | AB1: Кол-во гражданств + ДУЛ (19)
A2: Город Москва | B2: 1145000 | C2: Паспорт гражданина Российской Федерации | D2: PASSPORT_RF | E2: * | G2: Россия | H2: 643 | I2: =+TODAY()-4000 -> 42279 | J2: Дата рождения | K2: Подтверждаю | M2: Да | P2: Name | Q2: Code | U2: Я, заверяю, что: | AA2: 1 | AB2: Дипломы
A3: Город Санкт-Петербург | B3: 1140000 | C3: Свидетельство о рождении | D3: BIRTH_CERTIFICATE_RF | E3: Поле обязательно для заполнения; | G3: Абхазия | H3: 895 | I3: =+ДР+1 -> 42280 | J3: Дата выдачи ДУЛ | K3: Не соответствую требованиям | M3: Нет | N3: Заявление о внесении сведений о юридическом лице, в том числе о наличии у него права на осуществление деятельности организации, осуществляющей обмен цифровых валют в реестр организаций, осуществляющих обмен цифровых валют | O3: о внесении сведений о юридическом лице, в том числе о наличии у него права на осуществление деятельности организации, осуществляющей обмен цифровых валют, в реестр организаций, осуществляющих обмен цифровых валют | P3: Единоличный исполнительный орган | Q3: SEB | U3: мои ответы на вопросы анкеты являются достоверными и полными; | AA3: 1 | AB3: Места работы
A4: Алтайский край | B4: 1101000 | C4: Дипломатический паспорт гражданина РФ | D4: DIPLOMATIC_PASSPORT | E4: Остались незаполненные поля; | G4: Австралия | H4: 36 | I4: =+TODAY() -> 46279 | J4: Сегодня | K4: Не применимо | N4: Заявление о внесении сведений о юридическом лице, в том числе о наличии у него права на осуществление деятельности цифрового депозитария, в реестр цифровых депозитариев | O4: о внесении сведений о юридическом лице, в том числе о наличии у него права на осуществление деятельности цифрового депозитария, в реестр цифровых депозитариев | P4: СДЛ ПОД/ФТ | Q4: INT_CTL_RULES_PERSON | U4: запреты и (или) ограничения, установленные законодательством Российской Федерации и связанные с назначением на должность в потребительском кооперативе (кредитном кооперативе), с замещением должности гражданской службы, муниципальной службы, пребыванием в составе Правительства Российской Федерации, установленных Федеральным законом от 27 июля 2004 года № 79-ФЗ «О государственной гражданской службе Российской Федерации», Федеральным законом от 2 марта 2007 года № 25-ФЗ «О муниципальной службе в Российской Федерации», Федеральным конституционным законом от 6 ноября 2020 года № 4-ФКЗ «О Правительстве Российской Федерации», соблюдены; | AA4: 1 | AB4: Должности
A5: Амурская область | B5: 1110000 | C5: Загранпаспорт гражданина РФ | D5: FOREIGN_PASSPORT_RF | E5: Длина ОГРН должна составлять 13 символов; | G5: Австрия | H5: 40 | O5: Подтверждаю полноту и достоверность сведений, указанных в заявлении | P5: Заместитель ЕИО | Q5: DEPUTY_SEB | AA5: =+INDEX(Q17:R18,MATCH('Заявление УПД'!B1,Заявления,0),2) -> 0
A6: Архангельская область | B6: 1111000 | C6: Загранпаспорт гражданина СССР | D6: FOREIGN_PASSPORT_USSR | E6: Некорректно введен ОГРН; | G6: Азербайджан | H6: 31 | O6: Подтверждение юридического лица о том, что оно проинформировано о возможности применения Банком России к юридическому лицу мер, предусмотренных законодательством Российской Федерации, регулирующим деятельность организации, осуществляющей обмен цифровых валют, деятельность цифрового депозитария, в случае выявления Банком России неполной и (или) недостоверной информации, указанной в заявлении | P6: Член коллегиального исполнительного органа | Q6: CEB_MEMBER | U6: Обязуюсь сообщать кредитному кооперативу об изменении перечисленных выше анкетных данных.
A7: Астраханская область | B7: 1112000 | C7: Справка об освобождении из места лишения свободы | D7: IMPRISONMENT_CERTIFICATE | E7: Длина ИНН должна составлять 10 символов; | G7: Албания | H7: 8 | P7: Главный бухгалтер | Q7: CHIEF_ACCOUNTANT
A8: Белгородская область | B8: 1114000 | C8: Военный билет солдата (матроса, сержанта, старшины) | D8: MILITARY_CARD | E8: Длина ИНН должна составлять 12 символов; | G8: Алжир | H8: 12 | P8: Руководитель филиала | Q8: BRANCH_CHIEF
A9: Брянская область | B9: 1115000 | C9: Удостоверение личности офицера | D9: OFFICER_IDENTITY_CARD | E9: Некорректно введен ИНН; | G9: Ангилья о. (GB) | H9: 660
A10: Владимирская область | B10: 1117000 | C10: Военный билет офицера запаса | D10: OFFICER_MILITARY_CARD | E10: Длина строки не должна превышать | G10: Ангола | H10: 24 | S10: ЕИО, Зам.ЕИО, ЧП
A11: Волгоградская область | B11: 1118000 | C11: Иностранный паспорт | D11: PASSPORT_ALIEN | E11: символов; | G11: Андорра | H11: 20 | S11: СДЛ
A12: Вологодская область | B12: 1119000 | C12: Вид на жительство | D12: RESIDENCE_PERMIT | E12: Допускается ввод цифр; | G12: Антарктика | H12: 10
A13: Воронежская область | B13: 1120000 | C13: Паспорт моряка | D13: SEA_PASSPORT_RF | E13: Длина индекса должна составлять 6 цифр; | G13: Антигуа и Барбуда | H13: 28 | S13: ГБ, РФ
A14: г. Севастополь | B14: 1167000 | C14: Временное удостоверение личности гражданина Российской Федерации | D14: TEMP_IDENTITY_CARD | E14: Проверьте правильность ввода даты выдачи документа; | G14: Антильские о‐ва (NL) | H14: 530
A15: Еврейская автономная область | B15: 1199000 | C15: Паспорт СССР | D15: PASSPORT_USSR | E15: Проверьте правильность ввода даты рождения; | G15: Аргентина | H15: 32
A16: Забайкальский край | B16: 1176000 | C16: Удостоверение личности офицера | D16: OFFICER_IDENTITY_CARD | E16: Значение не соответствует формато-логическому контролю; | G16: Армения | H16: 51
A17: Ивановская область | B17: 1124000 | C17: Иные документы, выдаваемые органами МВД | D17: OTHER | E17: Допускается использование латинских букв; | G17: Аруба | H17: 533 | N17: ко
A18: Иркутская область | B18: 1125000 | E18: Поле обязательно должно содержать «@» и «.»; | G18: Афганистан | H18: 4 | N18: цк
A19: Кабардино-Балкарская Республика | B19: 1183000 | E19: Поле содержит недопустимые символы; | G19: Багамы | H19: 44 | N19: ПУРЦБ
A20: Калининградская область | B20: 1127000 | E20: Длина СНИЛС должна составлять 11 цифр; | G20: Бангладеш | H20: 50 | N20: КлОрг
A21: Калужская область | B21: 1129000 | E21: Допускается ввод значения по маске ###-###; | G21: Барбадос | H21: 52 | N21: УК
A22: Камчатский край | B22: 1130000 | C22: Образование | E22: Все верно | G22: Бахрейн | H22: 48
A23: Карачаево-Черкесская Республика | B23: 1191000 | C23: Name | D23: Code | G23: Беларусь | H23: 112
A24: Кемеровская область - Кузбасс | B24: 1132000 | C24: Высшее образование | D24: HE | G24: Белиз | H24: 84
A25: Кировская область | B25: 1133000 | C25: Дополнительное образование - переподготовка | D25: AER | G25: Бельгия | H25: 56
A26: Костромская область | B26: 1134000 | C26: Дополнительное образование - повышение квалификации | D26: AEAT | G26: Бенин | H26: 204
A27: Краснодарский край | B27: 1103000 | C27: Среднее специальное образование | D27: SSE | G27: Бермуды | H27: 60
A28: Красноярский край | B28: 1104000 | G28: Бове о. (NO) | H28: 74
A29: Курганская область | B29: 1137000 | G29: Болгария | H29: 100
A30: Курская область | B30: 1138000 | G30: Боливия | H30: 68
A31: Ленинградская область | B31: 1141000 | C31: Исключение тире из СНИЛС | G31: Бонэйр, Синт-Эстатиус и Саба | H31: 535
A32: Липецкая область | B32: 1142000 | C32: Исключение пробелов из СНИЛС | G32: Босния и Герцеговина | H32: 70
A33: Магаданская область | B33: 1144000 | G33: Ботсвана | H33: 72
A34: Московская область | B34: 1146000 | G34: Бразилия | H34: 76
A35: Мурманская область | B35: 1147000 | G35: Бруней Дарассалам | H35: 96
A36: Ненецкий автономный округ | B36: 1111100 | G36: Буркина‐Фасо | H36: 854
A37: Нижегородская область | B37: 1122000 | G37: Бурунди | H37: 108
A38: Новгородская область | B38: 1149000 | G38: Бутан | H38: 64
A39: Новосибирская область | B39: 1150000 | G39: Вануату | H39: 548
A40: Омская область | B40: 1152000 | G40: Ватикан | H40: 336
...

Sheet Поиск ошибки раскладки
B1: Кириллица в графе mail 1- true 0 - false | C1: =IF(OR( IFERROR(SEARCH(A$2,'Заявление УПД'!#REF!),FALSE), IFERROR(SEARCH(A$3,'Заявление УПД'!#REF!),FALSE), IFERROR(SEARCH(A$4,'Заявление УПД'!#REF!),FALSE), IFERROR(SEARCH(A$5,'Заявление УПД'!#REF!),FALSE), IFERROR(SEARCH(A$6,'Заявление УПД'!#REF!),FALSE), IFERROR(SEARCH(A$7,'Заявление УПД'!#REF!),FALSE), IFERROR(SEARCH(A$8,'Заявление УПД'!#REF!),FALSE), IFERROR(SEARCH(A$9,'Заявление УПД'!#REF!),FALSE), IFERROR(SEARCH(A$10,'Заявление УПД'!#REF!),FALSE), IFERROR(SEARCH(A$11,'Заявление УПД'!#REF!),FALSE), IFERROR(SEARCH(A$12,'Заявление УПД'!#REF!),FALSE), IFERROR(SEARCH(A$13,'Заявление УПД'!#REF!),FALSE), IFERROR(SEARCH(A$14,'Заявление УПД'!#REF!),FALSE), IFERROR(SEARCH(A$15,'Заявление УПД'!#REF!),FALSE), IFERROR(SEARCH(A$16,'Заявление УПД'!#REF!),FALSE), IFERROR(SEARCH(A$17,'Заявление УПД'!#REF!),FALSE), IFERROR(SEARCH(A$18,'Заявление УПД'!#REF!),FALSE), IFERROR(SEARCH(A$19,'Заявление УПД'!#REF!),FALSE), IFERROR(SEARCH(A$20,'Заявление УПД'!#REF!),FALSE), IFERROR(SEARCH(A$21,'Заявление УПД'!#REF!),FALSE), IFERROR(SEARCH(A$22,'Заявление УПД'!#REF!),FALSE), IFERROR(SEARCH(A$23,'Заявление УПД'!#REF!),FALSE), IFERROR(SEARCH(A$24,'Заявление УПД'!#REF!),FALSE), IFERROR(SEARCH(A$25,'Заявление УПД'!#REF!),FALSE), IFERROR(SEARCH(A$26,'Заявление УПД'!#REF!),FALSE), IFERROR(SEARCH(A$27,'Заявление УПД'!#REF!),FALSE),), VALUE("1"),VALUE("0")) -> 0
A2: а | B2: @ в графе мэйл 1- true 0 - false | C2: =IF('Заявление УПД'!#REF!="",0,IF(OR( IFERROR(SEARCH(A$35,'Заявление УПД'!#REF!),FALSE),), VALUE("0"),VALUE("1"))) -> #REF!
A3: б | B3: . в графе мэйл 1- true 0 - false | C3: =IF('Заявление УПД'!#REF!="",0,IF(OR( IFERROR(SEARCH(A$36,'Заявление УПД'!#REF!),FALSE),), VALUE("0"),VALUE("1"))) -> #REF!
A4: в | B4: Недопустимы символы в мэйл 1- true 0 - false | C4: =IF(OR( IFERROR(SEARCH(A$37,'Заявление УПД'!#REF!),FALSE), IFERROR(SEARCH(A$38,'Заявление УПД'!#REF!),FALSE), IFERROR(SEARCH(A$39,'Заявление УПД'!#REF!),FALSE),), VALUE("1"),VALUE("0")) -> 0
A5: г | B5: Значение мэйл | C5: =+IF('Заявление УПД'!#REF!<>"",'Заявление УПД'!#REF!,"") -> #REF!
A6: д
A7: е
A8: ё
A9: ж
A10: з
A11: и
A12: й
A13: к
A14: л
A15: м
A16: н
A17: о
... A39: /
